BEGIN:VCALENDAR
VERSION:2.0
PRODID:-//Life Cycle Bikes - ECPv4.6.11.1//NONSGML v1.0//EN
CALSCALE:GREGORIAN
METHOD:PUBLISH
X-WR-CALNAME:Life Cycle Bikes
X-ORIGINAL-URL:https://www.lifecyclebikes.com.au
X-WR-CALDESC:Events for Life Cycle Bikes
BEGIN:VEVENT
DTSTART;TZID=Australia/Perth:20180217T200000
DTEND;TZID=Australia/Perth:20180217T200000
DTSTAMP:20180226T120036
CREATED:20180129T040044Z
LAST-MODIFIED:20180129T040044Z
UID:29106-1518897600-1518897600@www.lifecyclebikes.com.au
SUMMARY:Luminocity: Night Ride-Perth
DESCRIPTION:
URL:https://www.lifecyclebikes.com.au/event/luminocity-night-ride-perth/
LOCATION:Australia
END:VEVENT
END:VCALENDAR