BEGIN:VCALENDAR
VERSION:2.0
PRODID:-//Life Cycle Bikes - ECPv5.0.2//NONSGML v1.0//EN
CALSCALE:GREGORIAN
METHOD:PUBLISH
X-WR-CALNAME:Life Cycle Bikes
X-ORIGINAL-URL:https://www.lifecyclebikes.com.au
X-WR-CALDESC:Events for Life Cycle Bikes
BEGIN:VTIMEZONE
TZID:Australia/Perth
BEGIN:STANDARD
TZOFFSETFROM:+0800
TZOFFSETTO:+0800
TZNAME:AWST
DTSTART:20180101T000000
END:STANDARD
END:VTIMEZONE
BEGIN:VEVENT
DTSTART;VALUE=DATE:20180407
DTEND;VALUE=DATE:20180408
DTSTAMP:20200228T163100
CREATED:20180319T053047Z
LAST-MODIFIED:20180319T053050Z
UID:29152-1523059200-1523145599@www.lifecyclebikes.com.au
SUMMARY:The Middle Earth Epic
DESCRIPTION: \n
URL:https://www.lifecyclebikes.com.au/event/the-middle-earth-epic/
LOCATION:Beer Farm\, Margaret River\, WA\, 6285\, Australia
CATEGORIES:Ride
ATTACH;FMTTYPE=image/jpeg:https://www.lifecyclebikes.com.au/wp-content/uploads/2018/03/2018-epic-poster-905x1280.jpg
END:VEVENT
END:VCALENDAR