BEGIN:VCALENDAR
VERSION:2.0
PRODID:-//Life Cycle Bikes - ECPv5.0.2//NONSGML v1.0//EN
CALSCALE:GREGORIAN
METHOD:PUBLISH
X-WR-CALNAME:Life Cycle Bikes
X-ORIGINAL-URL:https://www.lifecyclebikes.com.au
X-WR-CALDESC:Events for Life Cycle Bikes
BEGIN:VTIMEZONE
TZID:Australia/Perth
BEGIN:STANDARD
TZOFFSETFROM:+0800
TZOFFSETTO:+0800
TZNAME:AWST
DTSTART:20170101T000000
END:STANDARD
END:VTIMEZONE
BEGIN:VEVENT
DTSTART;VALUE=DATE:20170311
DTEND;VALUE=DATE:20170313
DTSTAMP:20200228T163045
CREATED:20170130T054417Z
LAST-MODIFIED:20170130T054417Z
UID:28729-1489190400-1489363199@www.lifecyclebikes.com.au
SUMMARY:Subaru Crave Mountain Bike Challenge
DESCRIPTION: \n
URL:https://www.lifecyclebikes.com.au/event/subaru-crave-mountain-bike-challenge/
LOCATION:Wild Bull Brewery\, Wellington Dam National Park\, Collie\, Western Australia\, Australia
END:VEVENT
END:VCALENDAR